BEGIN:VCALENDAR
VERSION:2.0
PRODID:-//SMACK! Republic Brewing Co. - ECPv6.15.20//NONSGML v1.0//EN
CALSCALE:GREGORIAN
METHOD:PUBLISH
X-WR-CALNAME:SMACK! Republic Brewing Co.
X-ORIGINAL-URL:https://www.smackrepublic.com
X-WR-CALDESC:Events for SMACK! Republic Brewing Co.
REFRESH-INTERVAL;VALUE=DURATION:PT1H
X-Robots-Tag:noindex
X-PUBLISHED-TTL:PT1H
BEGIN:VTIMEZONE
TZID:Africa/Johannesburg
BEGIN:STANDARD
TZOFFSETFROM:+0200
TZOFFSETTO:+0200
TZNAME:SAST
DTSTART:20210101T000000
END:STANDARD
END:VTIMEZONE
BEGIN:VEVENT
DTSTART;TZID=Africa/Johannesburg:20220527T170000
DTEND;TZID=Africa/Johannesburg:20220527T220000
DTSTAMP:20260420T091235
CREATED:20230201T101312Z
LAST-MODIFIED:20230201T101312Z
UID:225247-1653670800-1653688800@www.smackrepublic.com
SUMMARY:FORvibes Night Market
DESCRIPTION:
URL:https://www.smackrepublic.com/event/forvibes-night-market-3/
LOCATION:Ferndale on Republic\, Republic Rd\, Ferndale\, Randburg\, Gauteng\, 2125\, South Africa
CATEGORIES:Field Market
END:VEVENT
END:VCALENDAR