BEGIN:VCALENDAR
VERSION:2.0
PRODID:-//SMACK! Republic Brewing Co. - ECPv6.15.20//NONSGML v1.0//EN
CALSCALE:GREGORIAN
METHOD:PUBLISH
X-WR-CALNAME:SMACK! Republic Brewing Co.
X-ORIGINAL-URL:https://www.smackrepublic.com
X-WR-CALDESC:Events for SMACK! Republic Brewing Co.
REFRESH-INTERVAL;VALUE=DURATION:PT1H
X-Robots-Tag:noindex
X-PUBLISHED-TTL:PT1H
BEGIN:VTIMEZONE
TZID:Africa/Johannesburg
BEGIN:STANDARD
TZOFFSETFROM:+0200
TZOFFSETTO:+0200
TZNAME:SAST
DTSTART:20210101T000000
END:STANDARD
END:VTIMEZONE
BEGIN:VEVENT
DTSTART;VALUE=DATE:20221008
DTEND;VALUE=DATE:20221009
DTSTAMP:20260420T014139
CREATED:20230201T095546Z
LAST-MODIFIED:20230201T101335Z
UID:225239-1665187200-1665273599@www.smackrepublic.com
SUMMARY:Field Market
DESCRIPTION:
URL:https://www.smackrepublic.com/event/field-market-3/
LOCATION:Ferndale on Republic\, Republic Rd\, Ferndale\, Randburg\, Gauteng\, 2125\, South Africa
CATEGORIES:Field Market
END:VEVENT
END:VCALENDAR