BEGIN:VCALENDAR
VERSION:2.0
PRODID:-//SMACK! Republic Brewing Co. - ECPv6.15.20//NONSGML v1.0//EN
CALSCALE:GREGORIAN
METHOD:PUBLISH
X-ORIGINAL-URL:https://www.smackrepublic.com
X-WR-CALDESC:Events for SMACK! Republic Brewing Co.
REFRESH-INTERVAL;VALUE=DURATION:PT1H
X-Robots-Tag:noindex
X-PUBLISHED-TTL:PT1H
BEGIN:VTIMEZONE
TZID:Africa/Johannesburg
BEGIN:STANDARD
TZOFFSETFROM:+0200
TZOFFSETTO:+0200
TZNAME:SAST
DTSTART:20210101T000000
END:STANDARD
END:VTIMEZONE
BEGIN:VEVENT
DTSTART;VALUE=DATE:20221203
DTEND;VALUE=DATE:20221205
DTSTAMP:20260419T231634
CREATED:20230201T092357Z
LAST-MODIFIED:20230201T092357Z
UID:225222-1670025600-1670198399@www.smackrepublic.com
SUMMARY:Cradle Farms
DESCRIPTION:
URL:https://www.smackrepublic.com/event/cradle-farms/
LOCATION:Cradle Farms\, Plot 26\, R563\, Zwartkrans\, Krugersdorp\, Gauteng\, 1739\, South Africa
END:VEVENT
END:VCALENDAR