BEGIN:VCALENDAR
VERSION:2.0
PRODID:-//SMACK! Republic Brewing Co. - ECPv6.15.20//NONSGML v1.0//EN
CALSCALE:GREGORIAN
METHOD:PUBLISH
X-ORIGINAL-URL:https://www.smackrepublic.com
X-WR-CALDESC:Events for SMACK! Republic Brewing Co.
REFRESH-INTERVAL;VALUE=DURATION:PT1H
X-Robots-Tag:noindex
X-PUBLISHED-TTL:PT1H
BEGIN:VTIMEZONE
TZID:Africa/Johannesburg
BEGIN:STANDARD
TZOFFSETFROM:+0200
TZOFFSETTO:+0200
TZNAME:SAST
DTSTART:20220101T000000
END:STANDARD
END:VTIMEZONE
BEGIN:VEVENT
DTSTART;TZID=Africa/Johannesburg:20230603T090000
DTEND;TZID=Africa/Johannesburg:20230604T170000
DTSTAMP:20260419T143625
CREATED:20230208T194145Z
LAST-MODIFIED:20230208T195417Z
UID:225435-1685782800-1685898000@www.smackrepublic.com
SUMMARY:Biltong and Boerewors Fest
DESCRIPTION:The Biltong and Boerewors Festival 2023 will be presented this year 3 & 4 June and promises to provide great entertainment for the whole family! Pretoria botanical gardens\, here we come! \nThe theme for this years children’s area is CARNIVAL! With children stalls\, kiddies eats & treats\, games\, rides\, shows. Set runners\, face painters and so many activities\, not to be missed! \nWe are going to take care of a variety of artists on stage again to keep the audience on their toes – something for everyone’s taste! Keep an eye on our page to see if your favorite will be at the festival this year! \nFun competitions with Miss Biltong\, Mr Boerewors\, Beer drinking\, sausage eating\, dancers and giveaways will definitely ensure great entertainment and good laughs! \nA variety of exhibitors will be exhibiting unique products and make sure you don’t go home empty handed! \nAs always\, our food stalls will feed your drum\, with biltong and boerewors snacks\, a large beer garden and treats for the sweet tooth\, you can be sure you won’t go home hungry or thirsty! \nMake sure you buy your tickets online and avoid queues at the gate! \nThis event is managed by others.
URL:https://www.smackrepublic.com/event/biltong-and-boerewors-fest/
LOCATION:Pretoria Botanical Gardens\, 2 Cussonia Street\, Brummeria\, Pretoria\, Gauteng\, 0184\, South Africa
CATEGORIES:Festival
ATTACH;FMTTYPE=image/png:https://www.smackrepublic.com/wp-content/uploads/2023/02/298590437_1691626267875661_599409326440674595_n.png
ORGANIZER;CN="Biltong en Boerewors Fees":MAILTO:sales@promoto7.co.za
END:VEVENT
BEGIN:VEVENT
DTSTART;TZID=Africa/Johannesburg:20230603T110000
DTEND;TZID=Africa/Johannesburg:20230603T210000
DTSTAMP:20260419T143625
CREATED:20230208T200702Z
LAST-MODIFIED:20230208T201241Z
UID:225442-1685790000-1685826000@www.smackrepublic.com
SUMMARY:Benoni Beer & Gin Fest 2023
DESCRIPTION:BENONI BEER & GIN FEST IS BACK BABY!!!! \nIt’s time to start getting excited for the best Beer\, Gin & Music festival on the East Rand\, possibly the world! \nWe are launching a little earlier this year for all the “Coulda\, Woulda\, Shoulda” fans that missed out on 2022 because they thought we were playing games when we said we were sold out. \nStay tuned to this Facebook page for artists announcements\, headliners\, the full list of Breweries and Gin Distilleries and everything you need to know about Benoni’s beer & gin fest! \nFor all the really thirsty people; we are doubling up on bar area this time around. 2022 caught all the breweries and gin distilleries off guard with your ravenous desire for amazing beer’s and gins but as they say’ “trick me once…” MORE MORE MORE\, FASTER FASTER FASTER is 2023’s MOTTO! \n“Trust us Ticket” has been launched and includes entry to the beer fest & branded festival cup. \n“Trust us” means that you do not know the line-up yet but based on us being awesome you trust us to do a good job. \nThis event is managed by others.
URL:https://www.smackrepublic.com/event/benoni-beer-gin-fest-2023/
LOCATION:Benoni Northerns Sports Club\, 1 Brodigan St\, Benoni\, Gauteng\, 1501\, South Africa
CATEGORIES:Festival
ATTACH;FMTTYPE=image/jpeg:https://www.smackrepublic.com/wp-content/uploads/2023/02/323445711_563744339132804_1215449800982481264_n.jpg
END:VEVENT
END:VCALENDAR