BEGIN:VCALENDAR
VERSION:2.0
PRODID:-//SMACK! Republic Brewing Co. - ECPv6.15.20//NONSGML v1.0//EN
CALSCALE:GREGORIAN
METHOD:PUBLISH
X-ORIGINAL-URL:https://www.smackrepublic.com
X-WR-CALDESC:Events for SMACK! Republic Brewing Co.
REFRESH-INTERVAL;VALUE=DURATION:PT1H
X-Robots-Tag:noindex
X-PUBLISHED-TTL:PT1H
BEGIN:VTIMEZONE
TZID:Africa/Johannesburg
BEGIN:STANDARD
TZOFFSETFROM:+0200
TZOFFSETTO:+0200
TZNAME:SAST
DTSTART:20210101T000000
END:STANDARD
END:VTIMEZONE
BEGIN:VEVENT
DTSTART;TZID=Africa/Johannesburg:20231103T160000
DTEND;TZID=Africa/Johannesburg:20231103T220000
DTSTAMP:20260419T161134
CREATED:20230926T075001Z
LAST-MODIFIED:20230926T075001Z
UID:225686-1699027200-1699048800@www.smackrepublic.com
SUMMARY:FOR Night Market 3 November 2023
DESCRIPTION:Join us for a festive night out under the stars to shop\, eat & have a good time!  \nThe Field Market and Ferndale on Republic have collaborated to bring you an evening of live music  \, delicious food & drinks \, local & artisan goods . . . the best way to start your weekend and a great night out for the whole family!   \nLocal & handmade goods // Deli products // Food trucks // Craft drinks // Live music // Kids corner // Free market entry // Ample parking // Security \nSmack Republic Brewing Co is excited to be a part of this FOR Night Market. Come and find us at Ferndale on Republic \, where we will be serving up our ice-cold craft beer on tap. Extra Fresh\, Extra Cold premium beer while you take a break from the hustle and bustle of everyday life\, chill under the stars and spend a leisurely evening sipping on some of the best beer Jozi has to offer. Not to mention the host of amazing Food Stalls. \nOPEN: 4pm to 10pm \nADDRESS:\n– Ferndale on Republic shopping centre\, Republic road or Cross street\, Randburg\n– Located in parking area of Value Node\, follow directions from entrances on the night\n– GPS coordinates: -26.103844151904422\, 27.99132550969115 \nPARKING:\n– Ample parking available \nENTRY:\n– Free entry\n– All ages welcome / Family Friendly\n– No alcohol served to u/18’s
URL:https://www.smackrepublic.com/event/for-night-market-3-november-2023/
LOCATION:Ferndale on Republic\, Republic Rd\, Ferndale\, Randburg\, Gauteng\, 2125\, South Africa
CATEGORIES:Field Market
ATTACH;FMTTYPE=image/jpeg:https://www.smackrepublic.com/wp-content/uploads/2023/04/Night-Market-2-scaled.jpg
END:VEVENT
BEGIN:VEVENT
DTSTART;TZID=Africa/Johannesburg:20231014T090000
DTEND;TZID=Africa/Johannesburg:20231014T150000
DTSTAMP:20260419T161134
CREATED:20230208T190915Z
LAST-MODIFIED:20230213T085632Z
UID:225429-1697274000-1697295600@www.smackrepublic.com
SUMMARY:Field Market
DESCRIPTION:Discover Craft Beer Bliss at the Field Market! \nAre you looking for a unique and relaxed market experience? Look no further than the Field Market\, located at the Field and Study Park in Sandton. This open-air market is a treasure trove of local handcrafted goods and features a wide selection of food\, drinks\, and live music. \nSmack Republic Brewing Co is excited to be a part of this wonderful market. Come and find us under the trees\, where we will be serving up our ice cold craft beer on tap. Extra Fresh\, Extra Cold premium beer while you take a break from the hustle and bustle of everyday life\, chill under the trees and spend a leisurely afternoon sipping on some of the best beer Jozi has to offer. \nThe Field Market is held on the 2nd Saturday of each month from March to December\, so mark your calendars and make sure to stop by. With its laid-back atmosphere\, delicious food and drink options\, amazing local crafts\, and live music this is a monthly event you won’t want to miss. \nCatch us at the next Field Market and don’t forget “Obedience is Boring”
URL:https://www.smackrepublic.com/event/field-market-12/
LOCATION:Field and Study Park – Sandton\, Driefontein 41-Ir\, Sandton\, Gauteng\, South Africa
CATEGORIES:Field Market
ATTACH;FMTTYPE=image/jpeg:https://www.smackrepublic.com/wp-content/uploads/2023/02/Field-Market-Image-scaled.jpg
END:VEVENT
BEGIN:VEVENT
DTSTART;TZID=Africa/Johannesburg:20230909T090000
DTEND;TZID=Africa/Johannesburg:20230909T150000
DTSTAMP:20260419T161134
CREATED:20230208T190749Z
LAST-MODIFIED:20230213T085802Z
UID:225427-1694250000-1694271600@www.smackrepublic.com
SUMMARY:Field Market
DESCRIPTION:Discover Craft Beer Bliss at the Field Market! \nAre you looking for a unique and relaxed market experience? Look no further than the Field Market\, located at the Field and Study Park in Sandton. This open-air market is a treasure trove of local handcrafted goods and features a wide selection of food\, drinks\, and live music. \nSmack Republic Brewing Co is excited to be a part of this wonderful market. Come and find us under the trees\, where we will be serving up our ice cold craft beer on tap. Extra Fresh\, Extra Cold premium beer while you take a break from the hustle and bustle of everyday life\, chill under the trees and spend a leisurely afternoon sipping on some of the best beer Jozi has to offer. \nThe Field Market is held on the 2nd Saturday of each month from March to December\, so mark your calendars and make sure to stop by. With its laid-back atmosphere\, delicious food and drink options\, amazing local crafts\, and live music this is a monthly event you won’t want to miss. \nCatch us at the next Field Market and don’t forget “Obedience is Boring”
URL:https://www.smackrepublic.com/event/field-market-11/
LOCATION:Field and Study Park – Sandton\, Driefontein 41-Ir\, Sandton\, Gauteng\, South Africa
CATEGORIES:Field Market
ATTACH;FMTTYPE=image/jpeg:https://www.smackrepublic.com/wp-content/uploads/2023/02/Field-Market-Image-scaled.jpg
END:VEVENT
BEGIN:VEVENT
DTSTART;TZID=Africa/Johannesburg:20230812T090000
DTEND;TZID=Africa/Johannesburg:20230812T150000
DTSTAMP:20260419T161134
CREATED:20230208T190639Z
LAST-MODIFIED:20230213T085836Z
UID:225425-1691830800-1691852400@www.smackrepublic.com
SUMMARY:Field Market
DESCRIPTION:Discover Craft Beer Bliss at the Field Market! \nAre you looking for a unique and relaxed market experience? Look no further than the Field Market\, located at the Field and Study Park in Sandton. This open-air market is a treasure trove of local handcrafted goods and features a wide selection of food\, drinks\, and live music. \nSmack Republic Brewing Co is excited to be a part of this wonderful market. Come and find us under the trees\, where we will be serving up our ice cold craft beer on tap. Extra Fresh\, Extra Cold premium beer while you take a break from the hustle and bustle of everyday life\, chill under the trees and spend a leisurely afternoon sipping on some of the best beer Jozi has to offer. \nThe Field Market is held on the 2nd Saturday of each month from March to December\, so mark your calendars and make sure to stop by. With its laid-back atmosphere\, delicious food and drink options\, amazing local crafts\, and live music this is a monthly event you won’t want to miss. \nCatch us at the next Field Market and don’t forget “Obedience is Boring”
URL:https://www.smackrepublic.com/event/field-market-10/
LOCATION:Field and Study Park – Sandton\, Driefontein 41-Ir\, Sandton\, Gauteng\, South Africa
CATEGORIES:Field Market
ATTACH;FMTTYPE=image/jpeg:https://www.smackrepublic.com/wp-content/uploads/2023/02/Field-Market-Image-scaled.jpg
END:VEVENT
BEGIN:VEVENT
DTSTART;TZID=Africa/Johannesburg:20230708T090000
DTEND;TZID=Africa/Johannesburg:20230708T150000
DTSTAMP:20260419T161134
CREATED:20230208T190526Z
LAST-MODIFIED:20230213T085922Z
UID:225423-1688806800-1688828400@www.smackrepublic.com
SUMMARY:Field Market
DESCRIPTION:Discover Craft Beer Bliss at the Field Market! \nAre you looking for a unique and relaxed market experience? Look no further than the Field Market\, located at the Field and Study Park in Sandton. This open-air market is a treasure trove of local handcrafted goods and features a wide selection of food\, drinks\, and live music. \nSmack Republic Brewing Co is excited to be a part of this wonderful market. Come and find us under the trees\, where we will be serving up our ice cold craft beer on tap. Extra Fresh\, Extra Cold premium beer while you take a break from the hustle and bustle of everyday life\, chill under the trees and spend a leisurely afternoon sipping on some of the best beer Jozi has to offer. \nThe Field Market is held on the 2nd Saturday of each month from March to December\, so mark your calendars and make sure to stop by. With its laid-back atmosphere\, delicious food and drink options\, amazing local crafts\, and live music this is a monthly event you won’t want to miss. \nCatch us at the next Field Market and don’t forget “Obedience is Boring”
URL:https://www.smackrepublic.com/event/field-market-9/
LOCATION:Field and Study Park – Sandton\, Driefontein 41-Ir\, Sandton\, Gauteng\, South Africa
CATEGORIES:Field Market
ATTACH;FMTTYPE=image/jpeg:https://www.smackrepublic.com/wp-content/uploads/2023/02/Field-Market-Image-scaled.jpg
END:VEVENT
BEGIN:VEVENT
DTSTART;TZID=Africa/Johannesburg:20230610T090000
DTEND;TZID=Africa/Johannesburg:20230610T150000
DTSTAMP:20260419T161134
CREATED:20230208T190400Z
LAST-MODIFIED:20230213T090002Z
UID:225421-1686387600-1686409200@www.smackrepublic.com
SUMMARY:Field Market
DESCRIPTION:Discover Craft Beer Bliss at the Field Market! \nAre you looking for a unique and relaxed market experience? Look no further than the Field Market\, located at the Field and Study Park in Sandton. This open-air market is a treasure trove of local handcrafted goods and features a wide selection of food\, drinks\, and live music. \nSmack Republic Brewing Co is excited to be a part of this wonderful market. Come and find us under the trees\, where we will be serving up our ice cold craft beer on tap. Extra Fresh\, Extra Cold premium beer while you take a break from the hustle and bustle of everyday life\, chill under the trees and spend a leisurely afternoon sipping on some of the best beer Jozi has to offer. \nThe Field Market is held on the 2nd Saturday of each month from March to December\, so mark your calendars and make sure to stop by. With its laid-back atmosphere\, delicious food and drink options\, amazing local crafts\, and live music this is a monthly event you won’t want to miss. \nCatch us at the next Field Market and don’t forget “Obedience is Boring”
URL:https://www.smackrepublic.com/event/field-market-8/
LOCATION:Field and Study Park – Sandton\, Driefontein 41-Ir\, Sandton\, Gauteng\, South Africa
CATEGORIES:Field Market
ATTACH;FMTTYPE=image/jpeg:https://www.smackrepublic.com/wp-content/uploads/2023/02/Field-Market-Image-scaled.jpg
END:VEVENT
BEGIN:VEVENT
DTSTART;TZID=Africa/Johannesburg:20230526T160000
DTEND;TZID=Africa/Johannesburg:20230526T220000
DTSTAMP:20260419T161134
CREATED:20230405T231049Z
LAST-MODIFIED:20230405T231812Z
UID:225596-1685116800-1685138400@www.smackrepublic.com
SUMMARY:FOR Night Market 26 May 2023
DESCRIPTION:Join us for a festive night out under the stars to shop\, eat & have a good time!  \nThe Field Market and Ferndale on Republic have collaborated to bring you an evening of live music  \, delicious food & drinks \, local & artisan goods . . . the best way to start your weekend and a great night out for the whole family!   \nLocal & handmade goods // Deli products // Food trucks // Craft drinks // Live music // Kids corner // Free market entry // Ample parking // Security \nSmack Republic Brewing Co is excited to be a part of this FOR Night Market. Come and find us at Ferndale on Republic \, where we will be serving up our ice-cold craft beer on tap. Extra Fresh\, Extra Cold premium beer while you take a break from the hustle and bustle of everyday life\, chill under the stars and spend a leisurely evening sipping on some of the best beer Jozi has to offer. Not to mention the host of amazing Food Stalls. \nOPEN: 4pm to 10pm \nADDRESS:\n– Ferndale on Republic shopping centre\, Republic road or Cross street\, Randburg\n– Located in parking area of Value Node\, follow directions from entrances on the night\n– GPS coordinates: -26.103844151904422\, 27.99132550969115 \nPARKING:\n– Ample parking available \nENTRY:\n– Free entry\n– All ages welcome / Family Friendly\n– No alcohol served to u/18’s
URL:https://www.smackrepublic.com/event/for-night-market-26-may-2023/
LOCATION:Ferndale on Republic\, Republic Rd\, Ferndale\, Randburg\, Gauteng\, 2125\, South Africa
CATEGORIES:Field Market
ATTACH;FMTTYPE=image/jpeg:https://www.smackrepublic.com/wp-content/uploads/2023/04/Night-Market-2-scaled.jpg
END:VEVENT
BEGIN:VEVENT
DTSTART;TZID=Africa/Johannesburg:20230513T090000
DTEND;TZID=Africa/Johannesburg:20230513T150000
DTSTAMP:20260419T161134
CREATED:20230208T190121Z
LAST-MODIFIED:20230213T090046Z
UID:225419-1683968400-1683990000@www.smackrepublic.com
SUMMARY:Field Market
DESCRIPTION:Discover Craft Beer Bliss at the Field Market! \nAre you looking for a unique and relaxed market experience? Look no further than the Field Market\, located at the Field and Study Park in Sandton. This open-air market is a treasure trove of local handcrafted goods and features a wide selection of food\, drinks\, and live music. \nSmack Republic Brewing Co is excited to be a part of this wonderful market. Come and find us under the trees\, where we will be serving up our ice cold craft beer on tap. Extra Fresh\, Extra Cold premium beer while you take a break from the hustle and bustle of everyday life\, chill under the trees and spend a leisurely afternoon sipping on some of the best beer Jozi has to offer. \nThe Field Market is held on the 2nd Saturday of each month from March to December\, so mark your calendars and make sure to stop by. With its laid-back atmosphere\, delicious food and drink options\, amazing local crafts\, and live music this is a monthly event you won’t want to miss. \nCatch us at the next Field Market and don’t forget “Obedience is Boring”
URL:https://www.smackrepublic.com/event/field-market-7/
LOCATION:Field and Study Park – Sandton\, Driefontein 41-Ir\, Sandton\, Gauteng\, South Africa
CATEGORIES:Field Market
ATTACH;FMTTYPE=image/jpeg:https://www.smackrepublic.com/wp-content/uploads/2023/02/Field-Market-Image-scaled.jpg
END:VEVENT
BEGIN:VEVENT
DTSTART;TZID=Africa/Johannesburg:20230428T160000
DTEND;TZID=Africa/Johannesburg:20230428T220000
DTSTAMP:20260419T161134
CREATED:20230405T230607Z
LAST-MODIFIED:20230405T231704Z
UID:225591-1682697600-1682719200@www.smackrepublic.com
SUMMARY:FOR Night Market 28 April 2023
DESCRIPTION:Join us for a festive night out under the stars to shop\, eat & have a good time!  \nThe Field Market and Ferndale on Republic have collaborated to bring you an evening of live music  \, delicious food & drinks \, local & artisan goods . . . the best way to start your weekend and a great night out for the whole family!   \nLocal & handmade goods // Deli products // Food trucks // Craft drinks // Live music // Kids corner // Free market entry // Ample parking // Security \nSmack Republic Brewing Co is excited to be a part of this FOR Night Market. Come and find us at Ferndale on Republic \, where we will be serving up our ice-cold craft beer on tap. Extra Fresh\, Extra Cold premium beer while you take a break from the hustle and bustle of everyday life\, chill under the stars and spend a leisurely evening sipping on some of the best beer Jozi has to offer. Not to mention the host of amazing Food Stalls. \nOPEN: 4pm to 10pm \nADDRESS:\n– Ferndale on Republic shopping centre\, Republic road or Cross street\, Randburg\n– Located in parking area of Value Node\, follow directions from entrances on the night\n– GPS coordinates: -26.103844151904422\, 27.99132550969115 \nPARKING:\n– Ample parking available \nENTRY:\n– Free entry\n– All ages welcome / Family Friendly\n– No alcohol served to u/18’s
URL:https://www.smackrepublic.com/event/for-night-market-28-april-2023/
LOCATION:Ferndale on Republic\, Republic Rd\, Ferndale\, Randburg\, Gauteng\, 2125\, South Africa
CATEGORIES:Field Market
ATTACH;FMTTYPE=image/jpeg:https://www.smackrepublic.com/wp-content/uploads/2023/04/Night-Market-scaled.jpg
END:VEVENT
BEGIN:VEVENT
DTSTART;TZID=Africa/Johannesburg:20230408T090000
DTEND;TZID=Africa/Johannesburg:20230408T150000
DTSTAMP:20260419T161134
CREATED:20230208T185935Z
LAST-MODIFIED:20230213T090134Z
UID:225417-1680944400-1680966000@www.smackrepublic.com
SUMMARY:Field Market
DESCRIPTION:Discover Craft Beer Bliss at the Field Market! \nAre you looking for a unique and relaxed market experience? Look no further than the Field Market\, located at the Field and Study Park in Sandton. This open-air market is a treasure trove of local handcrafted goods and features a wide selection of food\, drinks\, and live music. \nSmack Republic Brewing Co is excited to be a part of this wonderful market. Come and find us under the trees\, where we will be serving up our ice cold craft beer on tap. Extra Fresh\, Extra Cold premium beer while you take a break from the hustle and bustle of everyday life\, chill under the trees and spend a leisurely afternoon sipping on some of the best beer Jozi has to offer. \nThe Field Market is held on the 2nd Saturday of each month from March to December\, so mark your calendars and make sure to stop by. With its laid-back atmosphere\, delicious food and drink options\, amazing local crafts\, and live music this is a monthly event you won’t want to miss. \nCatch us at the next Field Market and don’t forget “Obedience is Boring”
URL:https://www.smackrepublic.com/event/field-market-6/
LOCATION:Field and Study Park – Sandton\, Driefontein 41-Ir\, Sandton\, Gauteng\, South Africa
CATEGORIES:Field Market
ATTACH;FMTTYPE=image/jpeg:https://www.smackrepublic.com/wp-content/uploads/2023/02/Field-Market-Image-scaled.jpg
END:VEVENT
BEGIN:VEVENT
DTSTART;TZID=Africa/Johannesburg:20230311T090000
DTEND;TZID=Africa/Johannesburg:20230311T150000
DTSTAMP:20260419T161134
CREATED:20230208T164024Z
LAST-MODIFIED:20230213T090223Z
UID:225402-1678525200-1678546800@www.smackrepublic.com
SUMMARY:Field Market
DESCRIPTION:Discover Craft Beer Bliss at the Field Market! \nAre you looking for a unique and relaxed market experience? Look no further than the Field Market\, located at the Field and Study Park in Sandton. This open-air market is a treasure trove of local handcrafted goods and features a wide selection of food\, drinks\, and live music. \nSmack Republic Brewing Co is excited to be a part of this wonderful market. Come and find us under the trees\, where we will be serving up our ice cold craft beer on tap. Extra Fresh\, Extra Cold premium beer while you take a break from the hustle and bustle of everyday life\, chill under the trees and spend a leisurely afternoon sipping on some of the best beer Jozi has to offer. \nThe Field Market is held on the 2nd Saturday of each month from March to December\, so mark your calendars and make sure to stop by. With its laid-back atmosphere\, delicious food and drink options\, amazing local crafts\, and live music this is a monthly event you won’t want to miss. \nCatch us at the next Field Market and don’t forget “Obedience is Boring”
URL:https://www.smackrepublic.com/event/field-market-5/
LOCATION:Field and Study Park – Sandton\, Driefontein 41-Ir\, Sandton\, Gauteng\, South Africa
CATEGORIES:Field Market
ATTACH;FMTTYPE=image/jpeg:https://www.smackrepublic.com/wp-content/uploads/2023/02/Field-Market-Image-scaled.jpg
END:VEVENT
BEGIN:VEVENT
DTSTART;TZID=Africa/Johannesburg:20221210T100000
DTEND;TZID=Africa/Johannesburg:20221210T150000
DTSTAMP:20260419T161134
CREATED:20230201T070918Z
LAST-MODIFIED:20230213T090304Z
UID:225163-1670666400-1670684400@www.smackrepublic.com
SUMMARY:Field Market
DESCRIPTION:On the second Saturday of every month from 10:00-15:00 look out for the delightful Field Market with its food trucks\, live music and local handmade gift stalls.
URL:https://www.smackrepublic.com/event/field-market/
LOCATION:Field and Study Park – Sandton\, Driefontein 41-Ir\, Sandton\, Gauteng\, South Africa
CATEGORIES:Field Market
ATTACH;FMTTYPE=image/jpeg:https://www.smackrepublic.com/wp-content/uploads/2023/02/Field-Market-Image-scaled.jpg
END:VEVENT
BEGIN:VEVENT
DTSTART;TZID=Africa/Johannesburg:20221125T160000
DTEND;TZID=Africa/Johannesburg:20221125T210000
DTSTAMP:20260419T161134
CREATED:20230201T101059Z
LAST-MODIFIED:20230201T101357Z
UID:225245-1669392000-1669410000@www.smackrepublic.com
SUMMARY:FORvibes Night Market
DESCRIPTION:
URL:https://www.smackrepublic.com/event/forvibes-night-market-2/
LOCATION:Ferndale on Republic\, Republic Rd\, Ferndale\, Randburg\, Gauteng\, 2125\, South Africa
CATEGORIES:Field Market
END:VEVENT
BEGIN:VEVENT
DTSTART;VALUE=DATE:20221112
DTEND;VALUE=DATE:20221113
DTSTAMP:20260419T161134
CREATED:20230201T095459Z
LAST-MODIFIED:20230201T095459Z
UID:225237-1668211200-1668297599@www.smackrepublic.com
SUMMARY:Field Market
DESCRIPTION:
URL:https://www.smackrepublic.com/event/field-market-2/
LOCATION:Field and Study Park – Sandton\, Driefontein 41-Ir\, Sandton\, Gauteng\, South Africa
CATEGORIES:Field Market
END:VEVENT
BEGIN:VEVENT
DTSTART;VALUE=DATE:20221107
DTEND;VALUE=DATE:20221110
DTSTAMP:20260419T161134
CREATED:20230201T095341Z
LAST-MODIFIED:20230201T095341Z
UID:225234-1667779200-1668038399@www.smackrepublic.com
SUMMARY:Market under the Jacarandas
DESCRIPTION:
URL:https://www.smackrepublic.com/event/market-under-the-jacarandas/
LOCATION:Parktown High School for Girls\, 55 Tyrone Ave\, Parkview\, Randburg\, Gauteng\, 2122\, South Africa
CATEGORIES:Field Market
END:VEVENT
BEGIN:VEVENT
DTSTART;TZID=Africa/Johannesburg:20221028T160000
DTEND;TZID=Africa/Johannesburg:20221028T210000
DTSTAMP:20260419T161134
CREATED:20230201T100951Z
LAST-MODIFIED:20230201T101425Z
UID:225243-1666972800-1666990800@www.smackrepublic.com
SUMMARY:FORvibes Night Market
DESCRIPTION:
URL:https://www.smackrepublic.com/event/forvibes-night-market/
LOCATION:Ferndale on Republic\, Republic Rd\, Ferndale\, Randburg\, Gauteng\, 2125\, South Africa
CATEGORIES:Field Market
END:VEVENT
BEGIN:VEVENT
DTSTART;VALUE=DATE:20221008
DTEND;VALUE=DATE:20221009
DTSTAMP:20260419T161134
CREATED:20230201T095546Z
LAST-MODIFIED:20230201T101335Z
UID:225239-1665187200-1665273599@www.smackrepublic.com
SUMMARY:Field Market
DESCRIPTION:
URL:https://www.smackrepublic.com/event/field-market-3/
LOCATION:Ferndale on Republic\, Republic Rd\, Ferndale\, Randburg\, Gauteng\, 2125\, South Africa
CATEGORIES:Field Market
END:VEVENT
BEGIN:VEVENT
DTSTART;TZID=Africa/Johannesburg:20220527T170000
DTEND;TZID=Africa/Johannesburg:20220527T220000
DTSTAMP:20260419T161134
CREATED:20230201T101312Z
LAST-MODIFIED:20230201T101312Z
UID:225247-1653670800-1653688800@www.smackrepublic.com
SUMMARY:FORvibes Night Market
DESCRIPTION:
URL:https://www.smackrepublic.com/event/forvibes-night-market-3/
LOCATION:Ferndale on Republic\, Republic Rd\, Ferndale\, Randburg\, Gauteng\, 2125\, South Africa
CATEGORIES:Field Market
END:VEVENT
BEGIN:VEVENT
DTSTART;TZID=Africa/Johannesburg:20220514T090000
DTEND;TZID=Africa/Johannesburg:20220514T150000
DTSTAMP:20260419T161134
CREATED:20230201T101721Z
LAST-MODIFIED:20230201T101721Z
UID:225249-1652518800-1652540400@www.smackrepublic.com
SUMMARY:Field Market
DESCRIPTION:
URL:https://www.smackrepublic.com/event/field-market-4/
LOCATION:Field and Study Park – Sandton\, Driefontein 41-Ir\, Sandton\, Gauteng\, South Africa
CATEGORIES:Field Market
END:VEVENT
END:VCALENDAR